BEGIN:VCALENDAR
VERSION:2.0
PRODID:-//Music Runs Through It - ECPv6.5.0//NONSGML v1.0//EN
CALSCALE:GREGORIAN
METHOD:PUBLISH
X-ORIGINAL-URL:https://musicrunsthroughit.com
X-WR-CALDESC:Events for Music Runs Through It
REFRESH-INTERVAL;VALUE=DURATION:PT1H
X-Robots-Tag:noindex
X-PUBLISHED-TTL:PT1H
BEGIN:VTIMEZONE
TZID:America/Halifax
BEGIN:DAYLIGHT
TZOFFSETFROM:-0400
TZOFFSETTO:-0300
TZNAME:ADT
DTSTART:20240310T060000
END:DAYLIGHT
BEGIN:STANDARD
TZOFFSETFROM:-0300
TZOFFSETTO:-0400
TZNAME:AST
DTSTART:20241103T050000
END:STANDARD
END:VTIMEZONE
BEGIN:VEVENT
DTSTART;TZID=America/Halifax:20240929T193000
DTEND;TZID=America/Halifax:20240929T213000
DTSTAMP:20260424T081719
CREATED:20240822T002746Z
LAST-MODIFIED:20240822T002746Z
UID:7544-1727638200-1727645400@musicrunsthroughit.com
SUMMARY:Leeroy Stagger
DESCRIPTION:Waking up at ungodly hours would kick the shit out of most of us. But if you’re Leeroy Stagger\, you breathe. You pick up a guitar. And you greet the coming dawn with words\, music\, and grace. \n“Most of these songs were composed in the wee hours of a new day. The witching hours\, you could call them. Where my mind is active and there’s a peace and spirit I embrace in the quiet of life.” \nThat liminal space is exactly what Stagger would call his 3 AM Revelations—and there could be no better title for his 13th full recording. For it’s in that sacred and moonlit window that brought forth his strongest\, most passionate songwriting to date. \nIn these musical revelations—recorded in Stagger’s new Victoria home studio made of “beautiful rough-cut wood”—we hear gratitude\, struggle\, rebel rousing\, balladry\, compassion\, and humour. We go to worlds as small as the back of lousy Dodge Dart\, and worlds as vast as the Alberta Skies and as ethereal as human connection. \n“This is a record of the human spirit. Of suffering and joy. Of heroes and everyday stories. And of addiction and redemption.”
URL:https://musicrunsthroughit.com/event/leeroy-stagger/
LOCATION:Charlotte Street Arts Centre\, 732 Charlotte Street\, Fredericton\, NB\, E3B 1M5\, Canada
ATTACH;FMTTYPE=image/jpeg:https://musicrunsthroughit.com/wp-content/uploads/2024/08/Leeroy-HR-4081-Photographer-Erica-Chan-1-scaled.jpg
END:VEVENT
END:VCALENDAR