BEGIN:VCALENDAR
VERSION:2.0
PRODID:-//Music Runs Through It - ECPv6.5.0//NONSGML v1.0//EN
CALSCALE:GREGORIAN
METHOD:PUBLISH
X-ORIGINAL-URL:https://musicrunsthroughit.com
X-WR-CALDESC:Events for Music Runs Through It
REFRESH-INTERVAL;VALUE=DURATION:PT1H
X-Robots-Tag:noindex
X-PUBLISHED-TTL:PT1H
BEGIN:VTIMEZONE
TZID:America/Halifax
BEGIN:DAYLIGHT
TZOFFSETFROM:-0400
TZOFFSETTO:-0300
TZNAME:ADT
DTSTART:20250309T060000
END:DAYLIGHT
BEGIN:STANDARD
TZOFFSETFROM:-0300
TZOFFSETTO:-0400
TZNAME:AST
DTSTART:20251102T050000
END:STANDARD
END:VTIMEZONE
BEGIN:VEVENT
DTSTART;TZID=America/Halifax:20250220T190000
DTEND;TZID=America/Halifax:20250220T210000
DTSTAMP:20260420T194708
CREATED:20250121T235241Z
LAST-MODIFIED:20250121T235241Z
UID:7781-1740078000-1740085200@musicrunsthroughit.com
SUMMARY:Ashley MacIsaac
DESCRIPTION:In a fiddling career that is approaching four decades\, Ashley MacIsaac has enjoyed many glorious accomplishments with the instrument that has made him famous. He’s a JUNO award winning artist\, and his playing has taken him all over the world\, with highlights including the opening ceremonies for the Vancouver Olympics and touring North America with The Chieftains. His 1996 single with Mary Jane Lamond\, Sleepy Maggie saw international chart success\, and since then he has worked and recorded with many notable artists including Paul Simon and avant garde composer Phillip Glass. \nNow\, recently settled back home in his beloved Cape Breton\, Ashley is out on the road again and celebrating the music that made him an icon. He’ll rosin up the bow and take to the Dolan’s Pub stage for an unforgettable night of east coast reels and jigs on February 20th\, and we expect ticket sales will be brisk\, so don’t be left out in the cold. \nDoors open at 6:30pm / Show starts at 7:00pm\nGeneral seating (no reservations)
URL:https://musicrunsthroughit.com/event/ashley-macisaac/
LOCATION:Dolan’s Pub\, 349 King St\, Fredericton\, NB\, E3B 1E4\, Canada
ATTACH;FMTTYPE=image/jpeg:https://musicrunsthroughit.com/wp-content/uploads/2025/01/Ashley.jpg
END:VEVENT
END:VCALENDAR