BEGIN:VCALENDAR
VERSION:2.0
PRODID:-//Music Runs Through It - ECPv6.5.0//NONSGML v1.0//EN
CALSCALE:GREGORIAN
METHOD:PUBLISH
X-ORIGINAL-URL:https://musicrunsthroughit.com
X-WR-CALDESC:Events for Music Runs Through It
REFRESH-INTERVAL;VALUE=DURATION:PT1H
X-Robots-Tag:noindex
X-PUBLISHED-TTL:PT1H
BEGIN:VTIMEZONE
TZID:America/Halifax
BEGIN:DAYLIGHT
TZOFFSETFROM:-0400
TZOFFSETTO:-0300
TZNAME:ADT
DTSTART:20250309T060000
END:DAYLIGHT
BEGIN:STANDARD
TZOFFSETFROM:-0300
TZOFFSETTO:-0400
TZNAME:AST
DTSTART:20251102T050000
END:STANDARD
END:VTIMEZONE
BEGIN:VEVENT
DTSTART;TZID=America/Halifax:20250125T150000
DTEND;TZID=America/Halifax:20250125T170000
DTSTAMP:20260421T140659
CREATED:20250108T234716Z
LAST-MODIFIED:20250108T234716Z
UID:7767-1737817200-1737824400@musicrunsthroughit.com
SUMMARY:Brent Mason Book & Album Launch (Shivering Songs 2025)
DESCRIPTION:Brent Mason Book & Album Launch\nDoors 2:30pm / Show 3-5pm\n19+\n\nDon’t miss this unique opportunity to meet Brent Mason and witness the power of his dual talents in one spectacular show. Ticket buyers will receive a copy of the new CD\, Get In Line\, with their purchase. \nJoin us for an unforgettable afternoon as Brent Mason celebrates two major milestones: the launch of his latest novel Midway and his new album Get in Line. This event promises to be a rich blend of literary insight and musical performance highlighting Brent’s legendary talents. \nFirst Set: Q&A with Brent hosted by Rob Pinnock: Dive deep into Brent’s journey through the years\, from chasing the ghost of Kerouac across the continent to returning home to become an influential figure in New Brunswick’s arts scene. This intimate session will explore the stories and inspirations behind his novel Midway and the making of Get in Line. \nSecond Set: A live set featuring songs from Get in Line\, showcasing Brent’s distinctive voice\, poignant lyrics\, and masterful storytelling. \nBrent has been called “the Godfather of the Saint John music scene” and hailed as “the David Adams Richards of NB songwriters.” With 12 original albums\, numerous awards\, and decades of experience organizing festivals and hosting the longest-running open mic at O’Leary’s Pub\, Brent’s artistic impact is profound.
URL:https://musicrunsthroughit.com/event/brent-mason-book-album-launch-shivering-songs-2025/
LOCATION:Wilser’s Room (The Cap)\, 362 Queen Street\, Fredericton\, New Brunswick\, E3B 1B2\, Canada
ATTACH;FMTTYPE=image/jpeg:https://musicrunsthroughit.com/wp-content/uploads/2025/01/SS2025_BrentMason.jpg
END:VEVENT
END:VCALENDAR