BEGIN:VCALENDAR
VERSION:2.0
PRODID:-//Music Runs Through It - ECPv6.5.0//NONSGML v1.0//EN
CALSCALE:GREGORIAN
METHOD:PUBLISH
X-ORIGINAL-URL:https://musicrunsthroughit.com
X-WR-CALDESC:Events for Music Runs Through It
REFRESH-INTERVAL;VALUE=DURATION:PT1H
X-Robots-Tag:noindex
X-PUBLISHED-TTL:PT1H
BEGIN:VTIMEZONE
TZID:America/Halifax
BEGIN:DAYLIGHT
TZOFFSETFROM:-0400
TZOFFSETTO:-0300
TZNAME:ADT
DTSTART:20250309T060000
END:DAYLIGHT
BEGIN:STANDARD
TZOFFSETFROM:-0300
TZOFFSETTO:-0400
TZNAME:AST
DTSTART:20251102T050000
END:STANDARD
END:VTIMEZONE
BEGIN:VEVENT
DTSTART;TZID=America/Halifax:20250529T193000
DTEND;TZID=America/Halifax:20250529T220000
DTSTAMP:20260424T161728
CREATED:20250227T172410Z
LAST-MODIFIED:20250227T234836Z
UID:7818-1748547000-1748556000@musicrunsthroughit.com
SUMMARY:Bob Dylan Tribute (Fredericton)
DESCRIPTION:As an artist\, few have achieved the cultural ripple effect of Bob Dylan. His bold approach to forging new lyrical territory advanced popular music and changed the way people listened to it. From folk music’s fresh new face\, to pop’s most important voice\, Bob Dylan reshaped music throughout the 60’s\, then artfully redefined his musical direction a number of times through the 70’s and 80’s in a successful burst of creativity that explored new personal depths to his songwriting. \nMay is Bob Dylan’s birth month\, and this year he turns 84\, so we are throwing a huge party to celebrate the man and his music. Join us at Dolan’s Pub on May 29th\, as host Brent Mason and an all star cast\, including Jessica Rhaye and Ramshackle Parade\, Josh Bravener\, Peter Hicks (Sleepy Driver)\, Alan Jeffries and Pretty Western as they hand select personal favourites from his fabled career in an evening that promises a deep dive into the brilliance of Dylan. \nBruce Springsteen said it best when inducting Dylan into the Rock N’ Roll Hall of Fame… ‘Elvis Presley freed my body\, but Bob Dylan freed my mind.’ \nShow starts at 7:30PM. General seating – arrive early to enjoy a meal and have best selection of seats.
URL:https://musicrunsthroughit.com/event/bob-dylan-tribute-fredericton/
LOCATION:Dolan’s Pub\, 349 King St\, Fredericton\, NB\, E3B 1E4\, Canada
ATTACH;FMTTYPE=image/jpeg:https://musicrunsthroughit.com/wp-content/uploads/2025/02/BDylanTrib25_INSTAGRAM_FRED.jpg
END:VEVENT
BEGIN:VEVENT
DTSTART;TZID=America/Halifax:20250530T190000
DTEND;TZID=America/Halifax:20250530T210000
DTSTAMP:20260424T161728
CREATED:20250319T001056Z
LAST-MODIFIED:20250319T001056Z
UID:7857-1748631600-1748638800@musicrunsthroughit.com
SUMMARY:Connor Fox Trio (Fredericton)
DESCRIPTION:The Connor Fox Trio will play their hometown show at The Cap on May 30th. They’ll lay down two sets of blistering guitar jams that fuses Connor’s unique feel for the blues\, soulful southern rock and the improvisational impulses whose foundations lay at the feet of the psychedelic masters. Find out why this bright young talent is developing such a strong buzz around the Maritimes\, along with the whispered admiration of some of the region’s most respected players. \nConnor is coming off of a busy year that saw the release of his debut solo album\, Music Room\, further touring and collaborating\, along with the demanding side hustle as the lead guitarist for Josh Bravener and The Hypochondriacs. \nGeneral Admission. Doors at 6:30PM. Show at 7PM.
URL:https://musicrunsthroughit.com/event/connor-fox-trio-fredericton/
LOCATION:The Cap\, 362 Queen Street\, Fredericton\, NB\, E3B 1B2\, Canada
ATTACH;FMTTYPE=image/jpeg:https://musicrunsthroughit.com/wp-content/uploads/2025/03/Connor-Fox_photo.jpg
END:VEVENT
BEGIN:VEVENT
DTSTART;TZID=America/Halifax:20250531T190000
DTEND;TZID=America/Halifax:20250531T210000
DTSTAMP:20260424T161728
CREATED:20250314T170820Z
LAST-MODIFIED:20250318T231456Z
UID:7839-1748718000-1748725200@musicrunsthroughit.com
SUMMARY:Chickahominy Mountain Band (Fredericton)
DESCRIPTION:Time to celebrate the Chickahominy Mountain Band’s debut album new brunsicana !! \nTickets $20 advance/ $25 at the door.\nDoors at 6:30PM. Show at 7PM. \nBased in Charlotte County\, NB\, the Chickahominy Mountain Band has been a rhythm and country band performing at festivals\, bars\, and cafes since 2017. Composed of members from some of the Maritimes’ most beloved bands\, including acres & acres\, Earthbound\, Montgomery Street Band\, and Sticky Bandits\, these five musicians have crafted a unique blend of styles and an engaging on stage chemistry that jumps out and grabs you by the suspenders. \nSam Astorino has a talent for writing exciting melodies and telling stories about life in small towns and the backwoods of New Brunswick. His songwriting is complemented by the groovy percussion of Mike Humble and the solid bass playing of Ian Sherwood. Don Flatt brings a delightful presence with his keyboard skills\, while Patrick Gushue adds flair to the group with his blazing solos on fiddle\, mandolin\, and tiny guitar (also known as the electric mandolin)
URL:https://musicrunsthroughit.com/event/7839/
LOCATION:Wilser’s Room (The Cap)\, 362 Queen Street\, Fredericton\, New Brunswick\, E3B 1B2\, Canada
ATTACH;FMTTYPE=image/jpeg:https://musicrunsthroughit.com/wp-content/uploads/2025/03/chicka-release-poster.jpg
END:VEVENT
END:VCALENDAR