BEGIN:VCALENDAR
VERSION:2.0
PRODID:-//Music Runs Through It - ECPv6.5.0//NONSGML v1.0//EN
CALSCALE:GREGORIAN
METHOD:PUBLISH
X-WR-CALNAME:Music Runs Through It
X-ORIGINAL-URL:https://musicrunsthroughit.com
X-WR-CALDESC:Events for Music Runs Through It
REFRESH-INTERVAL;VALUE=DURATION:PT1H
X-Robots-Tag:noindex
X-PUBLISHED-TTL:PT1H
BEGIN:VTIMEZONE
TZID:America/Halifax
BEGIN:DAYLIGHT
TZOFFSETFROM:-0400
TZOFFSETTO:-0300
TZNAME:ADT
DTSTART:20230312T060000
END:DAYLIGHT
BEGIN:STANDARD
TZOFFSETFROM:-0300
TZOFFSETTO:-0400
TZNAME:AST
DTSTART:20231105T050000
END:STANDARD
END:VTIMEZONE
BEGIN:VEVENT
DTSTART;TZID=America/Halifax:20231118T190000
DTEND;TZID=America/Halifax:20231118T210000
DTSTAMP:20260421T014553
CREATED:20231106T052340Z
LAST-MODIFIED:20231106T052340Z
UID:6812-1700334000-1700341200@musicrunsthroughit.com
SUMMARY:Troy Cloney
DESCRIPTION:Troy Cloney is the kind of entertainer you would want to have at a party. His show is upbeat and he covers a lot of ground.\nThroughout the 80’s and 90’s\, Troy was a fixture on the local live scene with groups like The Guise and later on The Relics. Troy also fronted local favourites\, The Hype\, which led to touring throughout Eastern Canada. Troy has shared the stage with Trooper\, 54-40\, Burton Cummings and many more.\nIn 1997 he moved to Brazil and played with various groups and solo for 23 years.\nHe has since returned to his hometown of Fredericton\, and currently plays solo and as a vocalist for Stuck in the Middle.
URL:https://musicrunsthroughit.com/event/troy-cloney/
LOCATION:The Tipsy Muse Cafe\, 86 Regent Street\, Fredericton\, NB\, E3B 3W4\, Canada
END:VEVENT
BEGIN:VEVENT
DTSTART;TZID=America/Halifax:20231102T193000
DTEND;TZID=America/Halifax:20231102T220000
DTSTAMP:20260421T014553
CREATED:20231027T121155Z
LAST-MODIFIED:20231027T125140Z
UID:6762-1698953400-1698962400@musicrunsthroughit.com
SUMMARY:Mia Kelly with Nick Loyer
DESCRIPTION:Music Runs Through It presents Mia Kelly in the Uptown at Night Series at The Fredericton Inn. Thursday\, November 2\, 2023.\nDoors 6:30PM/Show 7:30PM. Click HERE for tickets.\nMia Kelly is a bilingual\, Gatineau-based singer/songwriter. Through folk-roots with a soulful twist\, her powerful voice draws audiences into heartfelt stories and raw emotions. Mia takes you on a journey through sweet ballads to sing-alongs and stomping feet. As one of Ottawa’s ten artists to watch in 2020 (Ottawa Citizen) and named Gatineau’s young creative of 2022 (Culturiades)\, Mia Kelly is making her mark in the Canadian Folk scene.\nJoining her is her longtime collaborator and friend Nick Loyer (from the group “Leverage for Mountains”). The two powerhouse vocalists and acclaimed songwriters have come together for a special project to create “Lost in Love” – a collection of songs filled with touching storytelling\, fiery soul and heartache. Mia and Nick’s voices blend to perfection – their friendship\, passion and melodies will leave you wanting more. \nListen to Mia’s conversation with Rob Pinnock on MRTI Radio:
URL:https://musicrunsthroughit.com/event/mia-kelly-with-nick-loyer/
LOCATION:Fredericton Inn\, 1315 Regent St\,\, Fredericton\, New Brunswick\, E3C 1A1\, Canada
ATTACH;FMTTYPE=image/jpeg:https://musicrunsthroughit.com/wp-content/uploads/2023/10/Image-1-e1698410342752.jpeg
END:VEVENT
END:VCALENDAR